BEGIN:VCALENDAR
VERSION:2.0
PRODID:-//Barry Training Services - ECPv6.14.2//NONSGML v1.0//EN
CALSCALE:GREGORIAN
METHOD:PUBLISH
X-WR-CALNAME:Barry Training Services
X-ORIGINAL-URL:https://barrytrainingservices.co.uk
X-WR-CALDESC:Events for Barry Training Services
REFRESH-INTERVAL;VALUE=DURATION:PT1H
X-Robots-Tag:noindex
X-PUBLISHED-TTL:PT1H
BEGIN:VTIMEZONE
TZID:Europe/London
BEGIN:DAYLIGHT
TZOFFSETFROM:+0000
TZOFFSETTO:+0100
TZNAME:BST
DTSTART:20240331T010000
END:DAYLIGHT
BEGIN:STANDARD
TZOFFSETFROM:+0100
TZOFFSETTO:+0000
TZNAME:GMT
DTSTART:20241027T010000
END:STANDARD
END:VTIMEZONE
BEGIN:VEVENT
DTSTART;TZID=Europe/London:20240701T083000
DTEND;TZID=Europe/London:20240701T170000
DTSTAMP:20260422T215937
CREATED:20240624T131327Z
LAST-MODIFIED:20240624T131327Z
UID:8487-1719822600-1719853200@barrytrainingservices.co.uk
SUMMARY:Non Licensed Asbestos (Initial)
DESCRIPTION:
URL:https://barrytrainingservices.co.uk/event/non-licensed-asbestos-initial/
LOCATION:Barry Training Head Office\, Sully Moors Road\, Barry\, Vale of Glamorgan\, CF64 5RP\, United Kingdom
CATEGORIES:Asbestos Skills Initial
END:VEVENT
BEGIN:VEVENT
DTSTART;TZID=Europe/London:20240710T083000
DTEND;TZID=Europe/London:20240710T170000
DTSTAMP:20260422T215937
CREATED:20240624T131345Z
LAST-MODIFIED:20240624T131345Z
UID:8489-1720600200-1720630800@barrytrainingservices.co.uk
SUMMARY:Non Licensed Asbestos (Initial)
DESCRIPTION:
URL:https://barrytrainingservices.co.uk/event/non-licensed-asbestos-initial-2/
LOCATION:Barry Training Head Office\, Sully Moors Road\, Barry\, Vale of Glamorgan\, CF64 5RP\, United Kingdom
CATEGORIES:Asbestos Skills Initial
END:VEVENT
BEGIN:VEVENT
DTSTART;TZID=Europe/London:20240717T083000
DTEND;TZID=Europe/London:20240717T160000
DTSTAMP:20260422T215937
CREATED:20240710T123827Z
LAST-MODIFIED:20240710T123827Z
UID:8537-1721205000-1721232000@barrytrainingservices.co.uk
SUMMARY:Asbestos Skills Initial
DESCRIPTION:
URL:https://barrytrainingservices.co.uk/event/asbestos-skills-initial-8/
LOCATION:Barry Training Head Office\, Sully Moors Road\, Barry\, Vale of Glamorgan\, CF64 5RP\, United Kingdom
CATEGORIES:Asbestos Skills Initial
ORGANIZER;CN="Barry Training Services":MAILTO:enquiries@barrytrainingservices.co.uk
END:VEVENT
BEGIN:VEVENT
DTSTART;TZID=Europe/London:20240717T083000
DTEND;TZID=Europe/London:20240717T170000
DTSTAMP:20260422T215937
CREATED:20240624T131403Z
LAST-MODIFIED:20240624T131403Z
UID:8491-1721205000-1721235600@barrytrainingservices.co.uk
SUMMARY:Non Licensed Asbestos (Initial)
DESCRIPTION:
URL:https://barrytrainingservices.co.uk/event/non-licensed-asbestos-initial-3/
LOCATION:Barry Training Head Office\, Sully Moors Road\, Barry\, Vale of Glamorgan\, CF64 5RP\, United Kingdom
CATEGORIES:Asbestos Skills Initial
END:VEVENT
END:VCALENDAR